BEGIN:VCALENDAR
VERSION:2.0
PRODID:-//ChamberMaster//Event Calendar 2.0//EN
METHOD:PUBLISH
X-PUBLISHED-TTL:P3D
REFRESH-INTERVAL:P3D
CALSCALE:GREGORIAN
BEGIN:VEVENT
DTSTART:20260509T153000Z
DTEND:20260509T183000Z
X-MICROSOFT-CDO-ALLDAYEVENT:FALSE
SUMMARY:Mommy Mayhem Fundraiser
DESCRIPTION:Mommy Mayhem Fundraiser -Help us build Stronger Bodies & Healthier minds for local children. -A Buddy Up CrossFit Partner Workout Fundraiser Event -$20 registration / donation per person \, 2 class time options 8:30-10:00 & 10:00-11:30 - All Donations being made will got to Tehama County Education Foundation in partnership with First 5 Tehama for Dolly Parton's imagination Library.
X-ALT-DESC;FMTTYPE=text/html:Mommy Mayhem Fundraiser -Help us build Stronger Bodies &amp\; Healthier minds for local children. -A Buddy Up CrossFit Partner Workout Fundraiser Event -$20 registration / donation per person \, 2 class time options 8:30-10:00 &amp\; 10:00-11:30 - All Donations being made will got to Tehama County Education Foundation in partnership with First 5 Tehama for Dolly Parton&#39\;s imagination Library.
LOCATION:946 Washington St. Red Bluff Ca 96080
UID:e.794.8218
SEQUENCE:3
DTSTAMP:20260421T215121Z
URL:https://content.redbluffchamber.com/events/details/mommy-mayhem-fundraiser-8218
END:VEVENT

END:VCALENDAR
